BEGIN:VCALENDAR
VERSION:2.0
PRODID:-//Plone.org//NONSGML plone.app.event//EN
X-WR-TIMEZONE:US/Central
BEGIN:VEVENT
SUMMARY:LET'S COLOR OUR SUMMER!
DTSTART;TZID=US/Central:20250715T100000
DTEND;TZID=US/Central:20250715T115900
DTSTAMP:20260421T194605Z
UID:4dc7a640e3214c28832f82f855c62727@saas_stack_varnish:6080
CREATED:20250425T150318Z
DESCRIPTION:Every Tuesday in June and July - Summer Reading Program at CPL
LAST-MODIFIED:20250515T202923Z
LOCATION:200 E. Beech Street
URL:https://clarencemo.ploud.net/events/library-events/summer-reading-prog
 ram/2025-07-15
END:VEVENT
BEGIN:VTIMEZONE
TZID:US/Central
X-LIC-LOCATION:US/Central
BEGIN:DAYLIGHT
DTSTART:20250309T030000
TZNAME:CDT
TZOFFSETFROM:-0600
TZOFFSETTO:-0500
END:DAYLIGHT
END:VTIMEZONE
END:VCALENDAR
