BEGIN:VCALENDAR
VERSION:2.0
PRODID:-//Plone.org//NONSGML plone.app.event//EN
X-WR-TIMEZONE:US/Central
BEGIN:VEVENT
SUMMARY:Martin Luther King Day: Library Closed
DTSTART;VALUE=DATE:20270118
DTEND;VALUE=DATE:20270119
DTSTAMP:20260421T163737Z
UID:a8a968f1b89a4615949eb43b2c9e2fe4@saas_stack_varnish:6080
RRULE:FREQ=YEARLY;COUNT=7;BYDAY=+3MO;BYMONTH=1
CATEGORIES:Closed
CREATED:20250424T160517Z
LAST-MODIFIED:20250424T165523Z
URL:https://clarencemo.ploud.net/events/past-and-future-events/martin-luth
 er-king-day
END:VEVENT
BEGIN:VEVENT
SUMMARY:New Year's Day: Library Closed
DTSTART;VALUE=DATE:20270101
DTEND;VALUE=DATE:20270102
DTSTAMP:20260421T163737Z
UID:5892a55d66094b2f956c3e20d5b48d17@saas_stack_varnish:6080
RRULE:FREQ=YEARLY;COUNT=7;BYMONTHDAY=1;BYMONTH=1
CATEGORIES:Closed
CREATED:20240305T181557Z
LAST-MODIFIED:20250226T210712Z
URL:https://clarencemo.ploud.net/events/past-and-future-events/new-years-d
 ay-library-closed
END:VEVENT
BEGIN:VEVENT
SUMMARY:Christmas: Library Closed
DTSTART;VALUE=DATE:20261225
DTEND;VALUE=DATE:20261226
DTSTAMP:20260421T163737Z
UID:d045d87722ce49a48e24fec4e61c78b7@saas_stack_varnish:6080
RRULE:FREQ=YEARLY;COUNT=7;BYMONTHDAY=25;BYMONTH=12
CATEGORIES:Closed
CREATED:20240305T210725Z
LAST-MODIFIED:20250424T162256Z
URL:https://clarencemo.ploud.net/events/past-and-future-events/christmas-l
 ibrary-closed
END:VEVENT
BEGIN:VEVENT
SUMMARY:Thanksgiving: Library Closed
DTSTART;VALUE=DATE:20261126
DTEND;VALUE=DATE:20261128
DTSTAMP:20260421T163737Z
UID:5d8ea753275f4cd78f07c6ab744b5017@saas_stack_varnish:6080
RRULE:FREQ=YEARLY;COUNT=7;BYDAY=+4TH;BYMONTH=11
CATEGORIES:Closed
CREATED:20240305T185642Z
LAST-MODIFIED:20250424T160921Z
URL:https://clarencemo.ploud.net/events/past-and-future-events/thanksgivin
 g-library-closed
END:VEVENT
BEGIN:VEVENT
SUMMARY:Veteran's Day: Library Closed
DTSTART;VALUE=DATE:20261111
DTEND;VALUE=DATE:20261112
DTSTAMP:20260421T163737Z
UID:31b911597d7b483ba23541eef579a74d@saas_stack_varnish:6080
RRULE:FREQ=YEARLY;COUNT=7;BYMONTHDAY=11;BYMONTH=11
CATEGORIES:Closed
CREATED:20250424T165305Z
LAST-MODIFIED:20250425T164825Z
URL:https://clarencemo.ploud.net/events/past-and-future-events/veterans-da
 y
END:VEVENT
BEGIN:VEVENT
SUMMARY:Columbus Day: Library Closed
DTSTART;VALUE=DATE:20261012
DTEND;VALUE=DATE:20261013
DTSTAMP:20260421T163737Z
UID:7cac4b86131149769da66fcc24dd9fd5@saas_stack_varnish:6080
RRULE:FREQ=YEARLY;COUNT=7;BYDAY=+2MO;BYMONTH=10
CATEGORIES:Closed
CREATED:20250424T164251Z
LAST-MODIFIED:20250425T164123Z
URL:https://clarencemo.ploud.net/events/past-and-future-events/columbus-da
 y-library-closed
END:VEVENT
BEGIN:VEVENT
SUMMARY:Labor Day: Library Closed
DTSTART;VALUE=DATE:20260907
DTEND;VALUE=DATE:20260908
DTSTAMP:20260421T163737Z
UID:65522866a6dd41acbee741192d270d72@saas_stack_varnish:6080
RRULE:FREQ=YEARLY;COUNT=7;BYDAY=+1MO;BYMONTH=9
CATEGORIES:Closed
CREATED:20240305T185418Z
LAST-MODIFIED:20250424T162218Z
URL:https://clarencemo.ploud.net/events/past-and-future-events/labor-day-l
 ibrary-closed
END:VEVENT
BEGIN:VEVENT
SUMMARY:Independence Day: Library Closed
DTSTART;VALUE=DATE:20260704
DTEND;VALUE=DATE:20260705
DTSTAMP:20260421T163737Z
UID:4c1b821103254c53a21f725ed2bf5a25@saas_stack_varnish:6080
RRULE:FREQ=YEARLY;COUNT=7;BYMONTHDAY=4;BYMONTH=7
CATEGORIES:Closed
CREATED:20240305T182442Z
LAST-MODIFIED:20250425T164606Z
URL:https://clarencemo.ploud.net/events/past-and-future-events/independenc
 e-day-library-closed
END:VEVENT
BEGIN:VEVENT
SUMMARY:LET'S COLOR OUR SUMMER!
DTSTART;TZID=US/Central:20250603T100000
DTEND;TZID=US/Central:20250603T115900
DTSTAMP:20260421T163737Z
UID:4dc7a640e3214c28832f82f855c62727@saas_stack_varnish:6080
RRULE:FREQ=WEEKLY;COUNT=8;BYDAY=TU
CREATED:20250425T150318Z
DESCRIPTION:Every Tuesday in June and July - Summer Reading Program at CPL
LAST-MODIFIED:20250515T202923Z
LOCATION:200 E. Beech Street
URL:https://clarencemo.ploud.net/events/library-events/summer-reading-prog
 ram
END:VEVENT
BEGIN:VEVENT
SUMMARY:SRP Kick Off Event - May 31st
DTSTART;TZID=US/Central:20250531T100000
DTEND;TZID=US/Central:20250531T113000
DTSTAMP:20260421T163737Z
UID:a56cd2a19b604b49a85bcce55d38baef@saas_stack_varnish:6080
CREATED:20250425T155017Z
LAST-MODIFIED:20250515T210226Z
LOCATION:200 E. Beech Street - City Park
URL:https://clarencemo.ploud.net/events/past-and-future-events/srp-kick-of
 f-event-may-31st
END:VEVENT
BEGIN:VEVENT
SUMMARY:Memorial Day: Library Closed
DTSTART;VALUE=DATE:20260525
DTEND;VALUE=DATE:20260526
DTSTAMP:20260421T163737Z
UID:a4fb49e2de1242bcbd13e09341227201@saas_stack_varnish:6080
RRULE:FREQ=YEARLY;COUNT=7;BYDAY=-1MO;BYMONTH=5
CATEGORIES:Closed
CREATED:20240305T182100Z
LAST-MODIFIED:20250424T161835Z
URL:https://clarencemo.ploud.net/events/past-and-future-events/memorial-da
 y-library-closed
END:VEVENT
BEGIN:VTIMEZONE
TZID:US/Central
X-LIC-LOCATION:US/Central
BEGIN:DAYLIGHT
DTSTART:20250309T030000
TZNAME:CDT
TZOFFSETFROM:-0600
TZOFFSETTO:-0500
END:DAYLIGHT
END:VTIMEZONE
END:VCALENDAR
