BEGIN:VCALENDAR
VERSION:2.0
PRODID:-//Plone.org//NONSGML plone.app.event//EN
X-WR-TIMEZONE:US/Central
BEGIN:VEVENT
SUMMARY:Christmas: Library Closed
DTSTART;VALUE=DATE:20271225
DTEND;VALUE=DATE:20271226
DTSTAMP:20260421T164030Z
UID:d045d87722ce49a48e24fec4e61c78b7@saas_stack_varnish:6080
CATEGORIES:Closed
CREATED:20240305T210725Z
LAST-MODIFIED:20250424T162256Z
URL:https://clarencemo.ploud.net/events/past-and-future-events/christmas-l
 ibrary-closed/2027-12-25
END:VEVENT
END:VCALENDAR
