BEGIN:VCALENDAR
VERSION:2.0
PRODID:-//Plone.org//NONSGML plone.app.event//EN
X-WR-TIMEZONE:US/Central
BEGIN:VEVENT
SUMMARY:Independence Day: Library Closed
DTSTART;VALUE=DATE:20300704
DTEND;VALUE=DATE:20300705
DTSTAMP:20260421T163818Z
UID:4c1b821103254c53a21f725ed2bf5a25@saas_stack_varnish:6080
CATEGORIES:Closed
CREATED:20240305T182442Z
LAST-MODIFIED:20250425T164606Z
URL:https://clarencemo.ploud.net/events/past-and-future-events/independenc
 e-day-library-closed/2030-07-04
END:VEVENT
END:VCALENDAR
