BEGIN:VCALENDAR
VERSION:2.0
PRODID:-//Plone.org//NONSGML plone.app.event//EN
X-WR-TIMEZONE:US/Central
BEGIN:VEVENT
SUMMARY:Martin Luther King Day: Library Closed
DTSTART;VALUE=DATE:20310120
DTEND;VALUE=DATE:20310121
DTSTAMP:20260421T164153Z
UID:a8a968f1b89a4615949eb43b2c9e2fe4@saas_stack_varnish:6080
CATEGORIES:Closed
CREATED:20250424T160517Z
LAST-MODIFIED:20250424T165523Z
URL:https://clarencemo.ploud.net/events/past-and-future-events/martin-luth
 er-king-day/2031-01-20
END:VEVENT
END:VCALENDAR
