BEGIN:VCALENDAR
VERSION:2.0
PRODID:-//Plone.org//NONSGML plone.app.event//EN
X-WR-TIMEZONE:US/Central
BEGIN:VEVENT
SUMMARY:New Year's Day: Library Closed
DTSTART;VALUE=DATE:20300101
DTEND;VALUE=DATE:20300102
DTSTAMP:20260421T164137Z
UID:5892a55d66094b2f956c3e20d5b48d17@saas_stack_varnish:6080
CATEGORIES:Closed
CREATED:20240305T181557Z
LAST-MODIFIED:20250226T210712Z
URL:https://clarencemo.ploud.net/events/past-and-future-events/new-years-d
 ay-library-closed/2030-01-01
END:VEVENT
END:VCALENDAR
