BEGIN:VCALENDAR
VERSION:2.0
PRODID:-//Plone.org//NONSGML plone.app.event//EN
X-WR-TIMEZONE:US/Central
BEGIN:VEVENT
SUMMARY:Veteran's Day: Library Closed
DTSTART;VALUE=DATE:20271111
DTEND;VALUE=DATE:20271112
DTSTAMP:20260421T163900Z
UID:31b911597d7b483ba23541eef579a74d@saas_stack_varnish:6080
CATEGORIES:Closed
CREATED:20250424T165305Z
LAST-MODIFIED:20250425T164825Z
URL:https://clarencemo.ploud.net/events/past-and-future-events/veterans-da
 y/2027-11-11
END:VEVENT
END:VCALENDAR
