BEGIN:VCALENDAR
VERSION:2.0
PRODID:-//Plone.org//NONSGML plone.app.event//EN
X-WR-TIMEZONE:US/Central
BEGIN:VEVENT
SUMMARY:Veteran's Day: Library Closed
DTSTART;VALUE=DATE:20261111
DTEND;VALUE=DATE:20261112
DTSTAMP:20260421T163643Z
UID:31b911597d7b483ba23541eef579a74d@saas_stack_varnish:6080
RRULE:FREQ=YEARLY;COUNT=7;BYMONTHDAY=11;BYMONTH=11
CATEGORIES:Closed
CREATED:20250424T165305Z
LAST-MODIFIED:20250425T164825Z
URL:https://clarencemo.ploud.net/events/past-and-future-events/veterans-da
 y
END:VEVENT
END:VCALENDAR
